BEGIN:VCALENDAR
VERSION:2.0
PRODID:-// - ECPv6.15.20//NONSGML v1.0//EN
CALSCALE:GREGORIAN
METHOD:PUBLISH
X-ORIGINAL-URL:https://www.nottsarchery.co.uk
X-WR-CALDESC:Events for 
REFRESH-INTERVAL;VALUE=DURATION:PT1H
X-Robots-Tag:noindex
X-PUBLISHED-TTL:PT1H
BEGIN:VTIMEZONE
TZID:Europe/London
BEGIN:DAYLIGHT
TZOFFSETFROM:+0000
TZOFFSETTO:+0100
TZNAME:BST
DTSTART:20250330T010000
END:DAYLIGHT
BEGIN:STANDARD
TZOFFSETFROM:+0100
TZOFFSETTO:+0000
TZNAME:GMT
DTSTART:20251026T010000
END:STANDARD
BEGIN:DAYLIGHT
TZOFFSETFROM:+0000
TZOFFSETTO:+0100
TZNAME:BST
DTSTART:20260329T010000
END:DAYLIGHT
BEGIN:STANDARD
TZOFFSETFROM:+0100
TZOFFSETTO:+0000
TZNAME:GMT
DTSTART:20261025T010000
END:STANDARD
BEGIN:DAYLIGHT
TZOFFSETFROM:+0000
TZOFFSETTO:+0100
TZNAME:BST
DTSTART:20270328T010000
END:DAYLIGHT
BEGIN:STANDARD
TZOFFSETFROM:+0100
TZOFFSETTO:+0000
TZNAME:GMT
DTSTART:20271031T010000
END:STANDARD
END:VTIMEZONE
BEGIN:VEVENT
DTSTART;TZID=Europe/London:20260503T080000
DTEND;TZID=Europe/London:20260503T170000
DTSTAMP:20260420T000934
CREATED:20260317T125001Z
LAST-MODIFIED:20260317T130645Z
UID:6631-1777795200-1777827600@www.nottsarchery.co.uk
SUMMARY:Notts League Round 1 and Golden Arrow
DESCRIPTION:The first round of the Notts League\, Oregon Challenge\, and Golden Arrow shoot is being hosted by Welbeck Archers this year. \nThis shoot is an American round but uses 10 zone scoring. \nEntries for the Notts League and Oregon Challenge must be made via your club secretary. \nEntry form and information for the Golden Arrow\, for visitors\, to follow.
URL:https://www.nottsarchery.co.uk/event/notts-league-round-1-and-golden-arrow/
LOCATION:Welbeck Archers\, The Old Cricket Field\, Bothamsall\, Worksop\, DN22 8DX
CATEGORIES:Golden Arrow,League Shoot,Tournaments
END:VEVENT
BEGIN:VEVENT
DTSTART;VALUE=DATE:20260614
DTEND;VALUE=DATE:20260615
DTSTAMP:20260420T000934
CREATED:20260317T125758Z
LAST-MODIFIED:20260317T130656Z
UID:6635-1781395200-1781481599@www.nottsarchery.co.uk
SUMMARY:Notts League Round 2
DESCRIPTION:The second round of the Notts League and Oregon Challenge is being hosted by Greasley Castle Archers. \nThis is an American round but uses 10 zone scoring. \nEntry is via club secretaries only.
URL:https://www.nottsarchery.co.uk/event/notts-league-round-2/
LOCATION:Greasley Castle Archers\, Greasley Castle Farm\, Church Road\, Moorgreen Nottingham NG16 2AB\, NG16 2AB
CATEGORIES:League Shoot,Tournaments
END:VEVENT
BEGIN:VEVENT
DTSTART;VALUE=DATE:20260809
DTEND;VALUE=DATE:20260810
DTSTAMP:20260420T000934
CREATED:20260317T130336Z
LAST-MODIFIED:20260317T130703Z
UID:6640-1786233600-1786319999@www.nottsarchery.co.uk
SUMMARY:Notts League Round 3
DESCRIPTION:The third\, and final\, round of the Notts League and Oregon Challenge is being hosted by Wilford Bowmen\, at Greasley Castle Archers. \nThis is an American round but uses 10 zone scoring. \nEntry is via club secretaries only.
URL:https://www.nottsarchery.co.uk/event/notts-league-round-3/
LOCATION:Greasley Castle Archers\, Greasley Castle Farm\, Church Road\, Moorgreen Nottingham NG16 2AB\, NG16 2AB
CATEGORIES:League Shoot,Tournaments
END:VEVENT
END:VCALENDAR