BEGIN:VCALENDAR
VERSION:2.0
PRODID:-// - ECPv6.15.20//NONSGML v1.0//EN
CALSCALE:GREGORIAN
METHOD:PUBLISH
X-ORIGINAL-URL:https://www.nottsarchery.co.uk
X-WR-CALDESC:Events for 
REFRESH-INTERVAL;VALUE=DURATION:PT1H
X-Robots-Tag:noindex
X-PUBLISHED-TTL:PT1H
BEGIN:VTIMEZONE
TZID:Europe/London
BEGIN:DAYLIGHT
TZOFFSETFROM:+0000
TZOFFSETTO:+0100
TZNAME:BST
DTSTART:20210328T010000
END:DAYLIGHT
BEGIN:STANDARD
TZOFFSETFROM:+0100
TZOFFSETTO:+0000
TZNAME:GMT
DTSTART:20211031T010000
END:STANDARD
BEGIN:DAYLIGHT
TZOFFSETFROM:+0000
TZOFFSETTO:+0100
TZNAME:BST
DTSTART:20220327T010000
END:DAYLIGHT
BEGIN:STANDARD
TZOFFSETFROM:+0100
TZOFFSETTO:+0000
TZNAME:GMT
DTSTART:20221030T010000
END:STANDARD
BEGIN:DAYLIGHT
TZOFFSETFROM:+0000
TZOFFSETTO:+0100
TZNAME:BST
DTSTART:20230326T010000
END:DAYLIGHT
BEGIN:STANDARD
TZOFFSETFROM:+0100
TZOFFSETTO:+0000
TZNAME:GMT
DTSTART:20231029T010000
END:STANDARD
END:VTIMEZONE
BEGIN:VEVENT
DTSTART;TZID=Europe/London:20220814T100000
DTEND;TZID=Europe/London:20220814T170000
DTSTAMP:20260420T020138
CREATED:20220219T172215Z
LAST-MODIFIED:20220219T172333Z
UID:4911-1660471200-1660496400@www.nottsarchery.co.uk
SUMMARY:Nottinghamshire County Archery Society League Shoot 3
DESCRIPTION:3rd county league shoot (Wilford Bowmen\, hosted this year at Greasley Castle Archers) \n  \nClosed shoot for Nottinghamshire Archery Society members\, entry forms submitted by Club secretaries
URL:https://www.nottsarchery.co.uk/event/nottinghamshire-county-archery-society-league-shoot-3-2/
LOCATION:Greasley Castle Archers\, Greasley Castle Farm\, Church Road\, Moorgreen Nottingham NG16 2AB\, NG16 2AB
CATEGORIES:County Calendar,League Shoot
END:VEVENT
BEGIN:VEVENT
DTSTART;TZID=Europe/London:20220612T100000
DTEND;TZID=Europe/London:20220612T170000
DTSTAMP:20260420T020138
CREATED:20220219T172114Z
LAST-MODIFIED:20220219T172114Z
UID:4909-1655028000-1655053200@www.nottsarchery.co.uk
SUMMARY:Nottinghamshire County Archery Society League Shoot 2
DESCRIPTION:2nd county league shoot (Location TBC) \nClosed shoot for Nottinghamshire Archery Society members\, entry forms submitted by Club secretaries \n 
URL:https://www.nottsarchery.co.uk/event/nottinghamshire-county-archery-society-league-shoot-2/
CATEGORIES:County Calendar,League Shoot
END:VEVENT
BEGIN:VEVENT
DTSTART;TZID=Europe/London:20220424T100000
DTEND;TZID=Europe/London:20220424T170000
DTSTAMP:20260420T020138
CREATED:20220219T171938Z
LAST-MODIFIED:20220219T172309Z
UID:4907-1650794400-1650819600@www.nottsarchery.co.uk
SUMMARY:Nottinghamshire County Archery Society League Shoot 1
DESCRIPTION:1st county league shoot (Greasley Castle Archers) \n  \nClosed Shoot for Nottinghamshire Archery Society members\, entry forms submitted by Club secretaries
URL:https://www.nottsarchery.co.uk/event/nottinghamshire-county-archery-society-league-shoot-1/
LOCATION:Greasley Castle Archers\, Greasley Castle Farm\, Church Road\, Moorgreen Nottingham NG16 2AB\, NG16 2AB
CATEGORIES:County Calendar,League Shoot
END:VEVENT
END:VCALENDAR